BEGIN:VCALENDAR
VERSION:2.0
PRODID:-//Lay Cistercians of Gethsemani Abbey - ECPv6.15.20//NONSGML v1.0//EN
CALSCALE:GREGORIAN
METHOD:PUBLISH
X-WR-CALNAME:Lay Cistercians of Gethsemani Abbey
X-ORIGINAL-URL:https://laycisterciansofgethsemani.org
X-WR-CALDESC:Events for Lay Cistercians of Gethsemani Abbey
REFRESH-INTERVAL;VALUE=DURATION:PT1H
X-Robots-Tag:noindex
X-PUBLISHED-TTL:PT1H
BEGIN:VTIMEZONE
TZID:America/New_York
BEGIN:DAYLIGHT
TZOFFSETFROM:-0500
TZOFFSETTO:-0400
TZNAME:EDT
DTSTART:20220313T070000
END:DAYLIGHT
BEGIN:STANDARD
TZOFFSETFROM:-0400
TZOFFSETTO:-0500
TZNAME:EST
DTSTART:20221106T060000
END:STANDARD
BEGIN:DAYLIGHT
TZOFFSETFROM:-0500
TZOFFSETTO:-0400
TZNAME:EDT
DTSTART:20230312T070000
END:DAYLIGHT
BEGIN:STANDARD
TZOFFSETFROM:-0400
TZOFFSETTO:-0500
TZNAME:EST
DTSTART:20231105T060000
END:STANDARD
BEGIN:DAYLIGHT
TZOFFSETFROM:-0500
TZOFFSETTO:-0400
TZNAME:EDT
DTSTART:20240310T070000
END:DAYLIGHT
BEGIN:STANDARD
TZOFFSETFROM:-0400
TZOFFSETTO:-0500
TZNAME:EST
DTSTART:20241103T060000
END:STANDARD
END:VTIMEZONE
BEGIN:VEVENT
DTSTART;VALUE=DATE:20230322
DTEND;VALUE=DATE:20230323
DTSTAMP:20260425T232218
CREATED:20230318T204727Z
LAST-MODIFIED:20230318T204727Z
UID:10288-1679443200-1679529599@laycisterciansofgethsemani.org
SUMMARY:Vigils Reading
DESCRIPTION:The Power of Virtue4\nFrom the discourses and sayings of Dorotheos of Gaza \nAt the time when I was one of Abba Seridos’ disciples there came a disciple of a great old monk from the region of Ascalon about some business for his abbot. He had the command from his senior to return after vespers to his own cell. When the time came to leave\, a violent thunderstorm arose\, with rain heavy enough to cause flooding\, and yet he wanted to leave as the senior had told him. We begged him to stay\, seeing that it was impossible to get safely across the river. He would not be persuaded to stay with us. At last we said\, ‘Let us go with him as far as the river. When he sees it\, he will return of his own accord.’ So we went off with him\, and when we reached the river he took off his cloak and bound it round his head\, tied up his scapular and jumped into the raging waters of the river. We just stood there astonished and fearful that he would be drowned\, but he kept afloat\, and very soon he was seen on the other bank. He put on his cloak\, threw us a profound bow from there\, received ours in return\, and went off at a run. But we stood in wonder\, astonished at the power of virtue. We came near with fear\, but he went through without danger because of his obedience. \nAnother Brother was sent by his abba on some necessary business to a correspondent in the country. When he saw himself solicited by the [man’s] daughter to a shameful act and himself in danger of falling\, simply cried out\, ‘O God of my Father\, deliver me’\, and straightway he was found on the road to<the> Skete\, fleeing toward his spiritual father. \nNotice the power of virtue\, notice the efficacy of prayer… Mark well the humility and discretion of both… Each of them was counting on the prayers of his father. See how they yoked obedience to humility! Just as horses are yoked together in a chariot so that one does not outstep the other\, so obedience needs to have humility yoked together with it. How can a man be worthy of this grace\, unless… he treats himself harshly to cut off the desires of his own and to give himself\, after God\, to his [spiritual] father\, without hesitation\, doing everything with full confidence as though obeying God. Such a man is worthy to find mercy\, such a man is worthy to find salvation. \n\n\n\n\n\n\nThe story is told of Blessed Basil that\, making a visitation of his monasteries\, he said to one of the Heads\, ‘Have you any saints here?’ The Abba said\, ‘Through your prayers\, my Lord\, we all desire to be saints.’ And again Blessed Basil said to him\, ‘No! I mean have you got any saints here?’ And the Abba tumbled to it (for he\, too\, had spiritual insight). ‘Yes\,” he <said>\, and he sent for a certain brother. When he arrived\, the Saint said to him\, ‘ Wash my feet’ and he went and fetched what was necessary. And after his feet were washed\, Basil said to the brother\, ‘Wait till I wash your feet.’ And without a murmur heallowed himself to be washed by the holy man. After testing the brother in this way\, he said\, ‘When I enter the sanctuary\, you come\, too! And remind me to ordain you.’ Again without a murmur\, the brother obeyed\, and when he saw the holy Basil in the inner sanctuary he went up and reminded him\, and Basil ordained him and took him with him\, for who else but this blessed brother was suitable to be with this holy godbearing father?… Everyone who throws himself completely into obedience to the Fathers shall surely possess this state of freedom from care and peacefulness of soul \n\n\n4 Dorotheos of Gaza. Discourses and Sayings. CS 33. Trans. Eric P. Wheeler. Kalamazoo\, MI: Cistercian Publications\, INC.\, 1977. 89-92. \n\n\n\n\n  \n\n\n 
URL:https://laycisterciansofgethsemani.org/event/vigils-reading-68/
CATEGORIES:Vigils Readings
END:VEVENT
END:VCALENDAR