BEGIN:VCALENDAR
VERSION:2.0
PRODID:-//Lay Cistercians of Gethsemani Abbey - ECPv6.15.20//NONSGML v1.0//EN
CALSCALE:GREGORIAN
METHOD:PUBLISH
X-WR-CALNAME:Lay Cistercians of Gethsemani Abbey
X-ORIGINAL-URL:https://laycisterciansofgethsemani.org
X-WR-CALDESC:Events for Lay Cistercians of Gethsemani Abbey
REFRESH-INTERVAL;VALUE=DURATION:PT1H
X-Robots-Tag:noindex
X-PUBLISHED-TTL:PT1H
BEGIN:VTIMEZONE
TZID:America/New_York
BEGIN:DAYLIGHT
TZOFFSETFROM:-0500
TZOFFSETTO:-0400
TZNAME:EDT
DTSTART:20220313T070000
END:DAYLIGHT
BEGIN:STANDARD
TZOFFSETFROM:-0400
TZOFFSETTO:-0500
TZNAME:EST
DTSTART:20221106T060000
END:STANDARD
BEGIN:DAYLIGHT
TZOFFSETFROM:-0500
TZOFFSETTO:-0400
TZNAME:EDT
DTSTART:20230312T070000
END:DAYLIGHT
BEGIN:STANDARD
TZOFFSETFROM:-0400
TZOFFSETTO:-0500
TZNAME:EST
DTSTART:20231105T060000
END:STANDARD
BEGIN:DAYLIGHT
TZOFFSETFROM:-0500
TZOFFSETTO:-0400
TZNAME:EDT
DTSTART:20240310T070000
END:DAYLIGHT
BEGIN:STANDARD
TZOFFSETFROM:-0400
TZOFFSETTO:-0500
TZNAME:EST
DTSTART:20241103T060000
END:STANDARD
END:VTIMEZONE
BEGIN:VEVENT
DTSTART;VALUE=DATE:20230910
DTEND;VALUE=DATE:20230911
DTSTAMP:20260421T092145
CREATED:20230909T104333Z
LAST-MODIFIED:20230909T104333Z
UID:10974-1694304000-1694390399@laycisterciansofgethsemani.org
SUMMARY:Skema
DESCRIPTION:Biblical Readings for Office and Mass\n23rd Week in Ordinary Time\n\n\nMass Readings: Sunday (A)\, Weekdays (I)\nSeptember 10 – 16\, 2023\n\n\n\nSun\n10\nMon\n11\nTue\n12\nWed\n13\nThu\n14\nFri\n15\nSat\n16\n\n\nOffice\n23rd Sunday\nWeekday\nWeekday\nSt John Chrysostom\nExaltation of the Holy Cross\nOur Lady of Sorrows\nSS Cornelius & Cyprian\n\n\nVigils\n1 Sam 1:20-2:11\n1 Sam 2:12-36\n1 Sam 3:1-21\n1 Sam 4:1-22\nIsa 52:13-53:12\n2 Macc 7:20-41\n1 Sam 5:1-12\n\n\nLauds\nAmos 1:6-10\nAmos 1:11-15\nAmos 2:1-5\nAmos 2:6-16\nIsa 45:21-25\nBaruch 4:9b-20\nAmos 3:1-8\n\n\nMass\n127\n437\n438\n439\n638\n639\n442\n\n\n1st\nEzek 33:7-9\nCol 1:24-2:3\nCol 2:6-15\nCol 3:1-11\nNum 21:4b-9\nHeb 5:7-9\n1 Tim 1:15-17\n\n\n2nd\nRom 13:8-10\n\n\n\n\n\n\n\n\nGospel\nMatt 18:15-20\nLuke 6:6-11\nLuke 6:12-19\nLuke 6:20-26\nJohn 3:13-17\nJohn 19:25-27\nLuke 6:43-49\n\n\nVespers\nJas 4:13-17\nJas 5:1-6\nJas 5:7-12\nJas 5:13-20\n1 Cor 1:18-25\n1 Pet 4:12-16\n1 Pet 1:1-7\n\n\n\n\n\n\n\n\n\n\n\n\n\n\n\n\n\n\n\n\n 
URL:https://laycisterciansofgethsemani.org/event/skema-43/
CATEGORIES:Vigils Readings
END:VEVENT
BEGIN:VEVENT
DTSTART;VALUE=DATE:20230910
DTEND;VALUE=DATE:20230911
DTSTAMP:20260421T092145
CREATED:20230909T104510Z
LAST-MODIFIED:20230909T104510Z
UID:10976-1694304000-1694390399@laycisterciansofgethsemani.org
SUMMARY:Vigils Reading - 23rd Sun ORD
DESCRIPTION:IF YOUR BROTHER SINS AGAINST YOU \nFrom a commentary by St Jerome \n◊◊◊ \nIf our brother sins against us and injures us for any reason\, we have the power\, or rather the obligation\, to forgive. For we are commanded to forgive debts for our debtors. But if anyone sins against God\, it no longer depends on our choice. For the Holy Scripture says: “If a man sins against a man\, the priest will pray for him; but if he sins against God\, who will pray for him?” In contrast with this\, we are mild about an injury to God\, but annoyed to the point of hatred about insults to ourselves! Now our brother ought to be corrected privately. Otherwise\, he may all at once lose his shame and modesty and continue in sin. And if he in fact listens\, we have gained his soul\, and by the salvation of another we have achieved salvation for ourselves as well. \nOn the other hand\, if he is unwilling to listen\, a brother should be summoned. And if he does not listen to that one\, even a third brother should be summoned. This is done either out of zeal for correcting him or for the purpose of meeting together with witnesses. Next\, if he is unwilling to listen to them\, then the matter must be told to many. In this way they formally renounce the one who could not be saved by shame\, in the hope that he might be saved by their reproaches. Now when it is said: “Let him be to you as a pagan and a tax collector\,” it is shown that the one who has the name of believer but who does the works of unbelievers is more accursed than those who are openly Gentiles. For they are called “tax collectors” as a figure of speech referring to those who pursue worldly gain and collect taxes by means of business\, fraud\, theft\, crimes\, and perjury… \n\n\n\n\n\n\nNow the secret response or unspoken thought of this brother who despises [the Church] could be: Well\, if you despise me\, I also will despise you. If you condemn me\, you too will be condemned by my sentence of judgment. Because of this possibility\, Jesus gave authority to the apostles to ensure that those who are condemned by such measures may know that the human verdict is corroborated by a divine verdict\, and whatever is bound on earth is equally bound in heaven… \nTherefore\, a reward is even promised that we might hasten toward peace more solicitously\, since he says that he will be in the midst of the two or three. This accords with that [famous] example of the tyrant who made prisoners of two men who were friends. One of them left his friend as a hostage in his place and went back to see his mother. By keeping the one man in prison while releasing the other\, the tyrant wanted to test them. When the friend returned on the appointed day\, the tyrant so admired the fidelity of both men that he begged them to enroll himself as the third partner in their friendship. We can also interpret this spiritually\, that where the spirit\, soul\, and body agree and do not have a war of diverse wills between them\, as the flesh lusts against the spirit and the spirit against the flesh\, concerning any matter that they ask\, they will procure it from the Father \n\n\n\n1 St Jerome. The Fathers of the Church: St Jerome – Commentary on Matthew. Vol. 117. Trans. Thomas P. Scheck. Washington\, D.C.: The Catholic University of America Press\, 2008. 211- 212. \n\n\n\n\n  \n\n\n\n 
URL:https://laycisterciansofgethsemani.org/event/vigils-reading-23rd-sun-ord/
CATEGORIES:Vigils Readings
END:VEVENT
END:VCALENDAR