BEGIN:VCALENDAR
VERSION:2.0
PRODID:-//Lay Cistercians of Gethsemani Abbey - ECPv6.15.20//NONSGML v1.0//EN
CALSCALE:GREGORIAN
METHOD:PUBLISH
X-ORIGINAL-URL:https://laycisterciansofgethsemani.org
X-WR-CALDESC:Events for Lay Cistercians of Gethsemani Abbey
REFRESH-INTERVAL;VALUE=DURATION:PT1H
X-Robots-Tag:noindex
X-PUBLISHED-TTL:PT1H
BEGIN:VTIMEZONE
TZID:America/New_York
BEGIN:DAYLIGHT
TZOFFSETFROM:-0500
TZOFFSETTO:-0400
TZNAME:EDT
DTSTART:20220313T070000
END:DAYLIGHT
BEGIN:STANDARD
TZOFFSETFROM:-0400
TZOFFSETTO:-0500
TZNAME:EST
DTSTART:20221106T060000
END:STANDARD
BEGIN:DAYLIGHT
TZOFFSETFROM:-0500
TZOFFSETTO:-0400
TZNAME:EDT
DTSTART:20230312T070000
END:DAYLIGHT
BEGIN:STANDARD
TZOFFSETFROM:-0400
TZOFFSETTO:-0500
TZNAME:EST
DTSTART:20231105T060000
END:STANDARD
BEGIN:DAYLIGHT
TZOFFSETFROM:-0500
TZOFFSETTO:-0400
TZNAME:EDT
DTSTART:20240310T070000
END:DAYLIGHT
BEGIN:STANDARD
TZOFFSETFROM:-0400
TZOFFSETTO:-0500
TZNAME:EST
DTSTART:20241103T060000
END:STANDARD
END:VTIMEZONE
BEGIN:VTIMEZONE
TZID:America/Chicago
BEGIN:DAYLIGHT
TZOFFSETFROM:-0600
TZOFFSETTO:-0500
TZNAME:CDT
DTSTART:20220313T080000
END:DAYLIGHT
BEGIN:STANDARD
TZOFFSETFROM:-0500
TZOFFSETTO:-0600
TZNAME:CST
DTSTART:20221106T070000
END:STANDARD
BEGIN:DAYLIGHT
TZOFFSETFROM:-0600
TZOFFSETTO:-0500
TZNAME:CDT
DTSTART:20230312T080000
END:DAYLIGHT
BEGIN:STANDARD
TZOFFSETFROM:-0500
TZOFFSETTO:-0600
TZNAME:CST
DTSTART:20231105T070000
END:STANDARD
BEGIN:DAYLIGHT
TZOFFSETFROM:-0600
TZOFFSETTO:-0500
TZNAME:CDT
DTSTART:20240310T080000
END:DAYLIGHT
BEGIN:STANDARD
TZOFFSETFROM:-0500
TZOFFSETTO:-0600
TZNAME:CST
DTSTART:20241103T070000
END:STANDARD
END:VTIMEZONE
BEGIN:VEVENT
DTSTART;VALUE=DATE:20231111
DTEND;VALUE=DATE:20231112
DTSTAMP:20260420T003254
CREATED:20231104T133340Z
LAST-MODIFIED:20231104T133340Z
UID:11232-1699660800-1699747199@laycisterciansofgethsemani.org
SUMMARY:Vigils Reading - St Martin of Tours
DESCRIPTION:ON THE FEAST OF ST MARTIN \nFrom a homily by St Aelred of Rievaulx7 \n◊◊◊ \nToday Christ mercifully raised up Martin to the joys of the kingdom of heaven… Martin\, this poor and modest one\, enters heaven a rich man. Happy and necessary\, voluntary poverty\, which scorns the world\, flees vainglory\, restrains luxury of the flesh\, nourishes self-control\, fosters sobriety\, and inflames love of God in the human heart\, happily attains eternal reward without hindrance. Blessed Martin loved this\, preferred it to riches and status; on account of this he scorned thepalaces of kings\, he discarded his soldier’s belt. But after corporeal military service\, he transferred himself to the spiritual battle and\, girded with the sword of God\, vigorously fought the wars of his God\, fighting against flesh and blood and the leaders of darkness. \nSo not long after his conversion\, on a journey he came to meet a spiteful spirit who envied his sanctity and the glory of his merits\, and as an adversary threatened the holy man wherever he went. But the Lord’s man Martin\, fervent with charity and filled with faith\, despised the horrible beast\, taking refuge in God’s garrison and saying\, “The Lord is my helper; I do not fear your threats.” Great was the fortitude of this athlete of the Lord\, who while near to death looked at the devil\, who was standing nearby\, and did not fear. Recalling his past life\, and discovering nothing in his conscience about which our adversary the devil should boast… he proclaimed\, “What are you doing here\, you bloodthirsty beast? Nothing in me… will you discover. May the bosom of Abraham receive me.” \n\n\n\n\n\n\nThis true Israelite\, in whom there is no guile\, ought to be honored. For if we diligently examine his life and behavior\, he was fervent in charity\, strong in faith\, frequent in prayer\, perfect in humility\, eager in obedience\, truthful in speech\, efficacious in deed\, powerful in the accomplishment of miracles… I do not find anyone after the apostles who could be compared to blessed Martin in virtues\, in miracles\, in signs and wonders. \nSo that we may glean a few things about many matters\, fringes of his clothing and threads of that goat-hair garment liberated many <people> from various illnesses. Beautiful and pleasing to God was the praise of God in Martin’s mouth\, who cleansed a leper by a kiss…at the gate of the city of Paris… Indeed\, rightly enough through the touch of his mouth the leprosy was put to flight\, because the law of his God was in his heart. His mouth contemplated wisdom\, because there was“never anything on his mouth except peace\, except Christ\, except compassion.” \nHe gave light to the blind\, restored hearing to the deaf\, healed paralytics\, raised the dead\, commanded flames\, trees\, birds\, and beasts. Martin the priest of God worked these and many other boundless signs and wonders while he still lived in the mortal flesh. Therefore\, what great things do we believe that he can do now that he is joined to his Creator\, from whom he received so that he was capable of these and similar things? Certainly\, as I may truly confess\, he is capable of all things in God the all-powerful\, to whom now he eternally adheres\, because he has served him faithfully\, in person\, regarding temporal matters… \nTherefore protect us\, chosen and beloved priest of God\, Martin\, so that with your merits lending support\, may we deserve to attain to that blessed rest that today you have happily entered.. \n\n\n7 Aelred of Rievaulx. The Liturgical Sermons: The Reading-Cluny Collection\, 2 of 2. CF 87. Trans. Daniel Griggs. Collegeville\, MN: Liturgical Press\, 2022. 306-308. \n\n\n\n\n  \n\n\n\n 
URL:https://laycisterciansofgethsemani.org/event/vigils-reading-st-martin-of-tours-2/
CATEGORIES:Vigils Readings
END:VEVENT
BEGIN:VEVENT
DTSTART;TZID=America/Chicago:20231111T090000
DTEND;TZID=America/Chicago:20231111T120000
DTSTAMP:20260420T003254
CREATED:20231109T201032Z
LAST-MODIFIED:20231109T201032Z
UID:11268-1699693200-1699704000@laycisterciansofgethsemani.org
SUMMARY:LCG Chicago
DESCRIPTION:November 11\, 2023 \nVIA ZOOM VIDEOCONFERENCE \nJoin Zoom Meeting \nhttps://us02web.zoom.us/j/86028356465 \nMeeting ID: 860 2835 6465 \nOne tap mobile \n+13126266799\,\,86028356465# US (Chicago) \n+13092053325\,\,86028356465# US \n  \n9:00 Gather for Opening prayer and lighting of the candles illuminating the Theotokos icon of Blessed Mother Mary and the baby Jesus. \n  \nWe also pray for all our lay Cistercian sisters and brothers in the US and around the world.  Specially we pray for our Gethsemani monks.  Finally\, we pray this month specially for these Gethsemani monks: \nMaximilian Pickerill \nAbel Arbuckle \nJoseph Bender \n 9:10 Lectio. Our lectio piece will be led by Robert Johnson. \n9:50 Reading.  Our reading this month is chapter 12 in The Universal Christ by Richard Rohr. \n10:45 Housekeeping.   Volunteer to lead lectio next month?  Summary of the Fall 2023 LCG Retreat led by our Chicago community.  What can we learn and what can be developed from the retreat? Election to replace Tom Kosnik as Council member.  Chicago Report on LCG Advisory Council activity. \n11:00 Update.   Share how the Holy Spirt has entered our lives as lay Cistercians since our last meeting. \n  \n11:45 Closing worship and prayer.  We will pray the liturgical hour of None as with our Gethsemani monks (identical Psalms as done today at Gethsemani Abbey.) \n 
URL:https://laycisterciansofgethsemani.org/event/lcg-chicago/
CATEGORIES:LCG Local Community Meetings,LCG open events
END:VEVENT
END:VCALENDAR