BEGIN:VCALENDAR
VERSION:2.0
PRODID:-//Lay Cistercians of Gethsemani Abbey - ECPv6.15.20//NONSGML v1.0//EN
CALSCALE:GREGORIAN
METHOD:PUBLISH
X-ORIGINAL-URL:https://laycisterciansofgethsemani.org
X-WR-CALDESC:Events for Lay Cistercians of Gethsemani Abbey
REFRESH-INTERVAL;VALUE=DURATION:PT1H
X-Robots-Tag:noindex
X-PUBLISHED-TTL:PT1H
BEGIN:VTIMEZONE
TZID:America/New_York
BEGIN:DAYLIGHT
TZOFFSETFROM:-0500
TZOFFSETTO:-0400
TZNAME:EDT
DTSTART:20220313T070000
END:DAYLIGHT
BEGIN:STANDARD
TZOFFSETFROM:-0400
TZOFFSETTO:-0500
TZNAME:EST
DTSTART:20221106T060000
END:STANDARD
BEGIN:DAYLIGHT
TZOFFSETFROM:-0500
TZOFFSETTO:-0400
TZNAME:EDT
DTSTART:20230312T070000
END:DAYLIGHT
BEGIN:STANDARD
TZOFFSETFROM:-0400
TZOFFSETTO:-0500
TZNAME:EST
DTSTART:20231105T060000
END:STANDARD
BEGIN:DAYLIGHT
TZOFFSETFROM:-0500
TZOFFSETTO:-0400
TZNAME:EDT
DTSTART:20240310T070000
END:DAYLIGHT
BEGIN:STANDARD
TZOFFSETFROM:-0400
TZOFFSETTO:-0500
TZNAME:EST
DTSTART:20241103T060000
END:STANDARD
END:VTIMEZONE
BEGIN:VEVENT
DTSTART;VALUE=DATE:20231119
DTEND;VALUE=DATE:20231120
DTSTAMP:20260420T003255
CREATED:20231118T153219Z
LAST-MODIFIED:20231118T153219Z
UID:11311-1700352000-1700438399@laycisterciansofgethsemani.org
SUMMARY:Skema.  33rd Week in Ordinary Time
DESCRIPTION:Biblical Readings for Office and Mass\n33rd Week in Ordinary Time\n\n\nMass Readings: Sunday (A)\, Weekdays (I)\nNovember 19 – 25\, 2023\n\n\n\nSun\n19\nMon\n20\nTue\n21\nWed\n22\nThu\n23\nFri\n24\nSat\n25\n\n\nOffice\n33rd Sunday\nWeekday\nPresentation of the BVM\nSt Cecilia\nSt Columban Thanksgiving\nSt Andrew & Companions\nSt Catherine of Alexandria\n\n\nVigils\nJud 8:24-36\nJud 9:1-14\nJud 10:1-10\nJud 10:11-23\nJud 11:1-23\nJud 12:1-20\nJud 13:1-11\n\n\nLauds\nZeph 3:1-7\nZeph 3:8-13\nZeph 3:14-20\nMal 1:1-5\nMal 1:6-10\nMal 1:11-14\nMal 2:1-9\n\n\nMass\n157\n497\nAnointing\n499\n943.3\, 944.3\, 947.6\n501\n502\n\n\n1st\nProv 31:10-13\, 19-20\, 30-31\n1 Macc 1:10-15\, 41-43\, 54-57\, 62-63\n\n2 Macc 7:1\, 20-31\nIsa 63:7-9\n1 Macc 4:36-37\, 52-59\n1 Macc 6:1-13\n\n\n2nd\n1 Thess 5:1-6\n\n\n\nCol 3:12-17\n\n\n\n\nGospel\nMatt 25:14-30\nLuke 18:35-43\n\nLuke 19:11-28\nLuke 17:11-19\nLuke 19:45-48\nLuke 20:27-40\n\n\nVespers\n2 Cor 11:16-21a\n2 Cor 11:21b-33\n\n2 Cor 12:11-18\n2 Cor 12:19-13:4\n2 Cor 13:5-13\nEph 1:15-23\n\n\n\n\n\n\n\n\n\n\n\n\n\n\n\n\n\n\n\n\n 
URL:https://laycisterciansofgethsemani.org/event/skema-33rd-week-in-ordinary-time/
CATEGORIES:Vigils Readings
END:VEVENT
BEGIN:VEVENT
DTSTART;VALUE=DATE:20231119
DTEND;VALUE=DATE:20231120
DTSTAMP:20260420T003255
CREATED:20231118T153720Z
LAST-MODIFIED:20231118T153720Z
UID:11313-1700352000-1700438399@laycisterciansofgethsemani.org
SUMMARY:33rd Sunday in Ordinary Time
DESCRIPTION:SHARE YOUR MASTER’S JOY\nFrom a commentary by St John Chrysostom 1\n◊◊◊\nIn the parable of the talents the Master entrusted money to his servants and\nthen set out on a journey. This was to help us understand how patient he is\, though\nin my view this story also refers to the resurrection. Here it is a question not of a\nvineyard and vine dressers\, but of all workers. The Master is addressing everyone\,\nnot only rulers\, or the Jews. \nThose bringing him their profit acknowledge frankly what is their own\, and\nwhat is their Master’s. One says: Sir\, you gave me five talents; another says: You\ngave me two\, recognizing that they had received from him the means of making a\nprofit. They are extremely grateful\, and attribute to him all their success.\nWhat does the Master say then? Well done\, good and faithful servant (for\ngoodness shows itself in concern for one’s neighbor). Because you have proved\ntrustworthy in managing a small amount\, I will give you charge of a greater sum:\ncome and share your Master’s joy. \nBut one servant has a different answer. He says: I knew you were a hard man\,\nreaping where you have not sown and gathering where you have not winnowed; and\nI was afraid\, and hid your talent. Here it is – you have back what belongs to you.\nWhat does the Master say to that? You wicked servant! You should have put\nmy money in the bank\, that is\, “You should have spoken out and given\nencouragement and advice.” “But no one will pay attention.” “That is not my concern. You should have deposited the money” he says\, “and left me to reclaim it\,\nwhich I would have done with interest\,” meaning by interest the good works that\nare seen to follow the hearing of the word. “The easier part is all you were expected\nto do\, leaving the harder part to me.” Because the servant failed to do this\, the\nMaster said: Take the talent away from him\, and give it to the servant who has ten\ntalents. For to everyone who has more will be given\, and he will have enough and to\nspare; but the one who has not will forfeit even the little he has. \nWhat is the meaning of this? That whoever has received for the good of\nothers the ability to preach and teach\, and does not use it\, will lose that ability\,\nwhereas the zealous servant will be given greater ability\, even as the other forfeits\nwhat he had. \n1\nJourney with the Fathers – Year A – New City Press – NY -1999 – pg 142-143.
URL:https://laycisterciansofgethsemani.org/event/33rd-sunday-in-ordinary-time/
CATEGORIES:Vigils Readings
END:VEVENT
END:VCALENDAR