BEGIN:VCALENDAR
VERSION:2.0
PRODID:-//Lay Cistercians of Gethsemani Abbey - ECPv6.15.20//NONSGML v1.0//EN
CALSCALE:GREGORIAN
METHOD:PUBLISH
X-ORIGINAL-URL:https://laycisterciansofgethsemani.org
X-WR-CALDESC:Events for Lay Cistercians of Gethsemani Abbey
REFRESH-INTERVAL;VALUE=DURATION:PT1H
X-Robots-Tag:noindex
X-PUBLISHED-TTL:PT1H
BEGIN:VTIMEZONE
TZID:America/New_York
BEGIN:DAYLIGHT
TZOFFSETFROM:-0500
TZOFFSETTO:-0400
TZNAME:EDT
DTSTART:20230312T070000
END:DAYLIGHT
BEGIN:STANDARD
TZOFFSETFROM:-0400
TZOFFSETTO:-0500
TZNAME:EST
DTSTART:20231105T060000
END:STANDARD
BEGIN:DAYLIGHT
TZOFFSETFROM:-0500
TZOFFSETTO:-0400
TZNAME:EDT
DTSTART:20240310T070000
END:DAYLIGHT
BEGIN:STANDARD
TZOFFSETFROM:-0400
TZOFFSETTO:-0500
TZNAME:EST
DTSTART:20241103T060000
END:STANDARD
BEGIN:DAYLIGHT
TZOFFSETFROM:-0500
TZOFFSETTO:-0400
TZNAME:EDT
DTSTART:20250309T070000
END:DAYLIGHT
BEGIN:STANDARD
TZOFFSETFROM:-0400
TZOFFSETTO:-0500
TZNAME:EST
DTSTART:20251102T060000
END:STANDARD
END:VTIMEZONE
BEGIN:VEVENT
DTSTART;VALUE=DATE:20240207
DTEND;VALUE=DATE:20240208
DTSTAMP:20260419T190218
CREATED:20240203T124059Z
LAST-MODIFIED:20240203T124059Z
UID:11556-1707264000-1707350399@laycisterciansofgethsemani.org
SUMMARY:Vigils Reading
DESCRIPTION:THE HOLY SPIRIT BESTOWS \nTHE UNDERSTANDING OF FAITH \nFrom a treatise by William of St Thierry4 \n◊◊◊ \nIf your whole being hesitates before the all too profound mysteries \nof faith\, say without fear\, not in disagreement but out of a desire to obey\, \n“How can this be?” Let your question be a prayer\, let it be love\, devotion\, \nhumble desire. Do not let it look haughtily at the divine majesty\, but seek \nfor salvation in the means of salvation which the God of our deliverance \nprovides. Then the Angel of great Counsel will answer you: “When the \nCounsellor comes whom I shall send to you from the Father\, …he will \nbear witness to me and will teach you all things: all truth will come to you \nfrom the Spirit of truth.” “Who\, for example\, knows one’s own innermost \nself but one’s own spirit within him? Similarly\, no one knows what lies at \nthe depths of God but the Spirit of God.” \nHasten\, then\, to come into communion with the Holy Spirit: and he \nis invoked only when he is present. When called upon\, he comes; he \narrives in the abundance of divine blessings. It is he who is the swift- \nflowing river which makes glad the city of God. At his coming\, if he finds \nyou humble and free from anxiety\, reflecting on the word of God\, he will \nrest upon you and reveal to you what God hides from the wise and prudent \nof this world. You will then be enlightened by all the things which \nWisdom\, when on earth\, could have said to the disciples\, but which they \ncould not bear before the coming of the Spirit of truth who would lead \nthem into all truth. \nTo receive and learn this truth\, it is useless to expect from the mouth \nof another human person what one was not able to receive or learn from \nthe lips of the Truth himself. For as this Truth declared\, “God is Spirit”; \nand just as those who worship him must worship him in spirit and truth\, \nso those who desire to know him must seek only in the Holy Spirit to \nunderstand faith and the meaning of this pure and unalloyed truth. \nIn the darkness and ignorance of this life the Holy Spirit is himself\, \nfor the poor in spirit\, the light which lightens\, the love which attracts\, the \ngentleness which charms\, the love of one who loves\, the piety of one who \ngives himself without reserve. It is he who from one conviction to another\, \nreveals the justice of God to those who believe; he gives grace for grace \nand enlightenment for the faith which “comes from hearing. \n  \n4 THE MIRROR OF FAITH; PL 180\, 384-D.9 \n  \n 
URL:https://laycisterciansofgethsemani.org/event/vigils-reading-155/
CATEGORIES:Vigils Readings
END:VEVENT
END:VCALENDAR