BEGIN:VCALENDAR
VERSION:2.0
PRODID:-//Lay Cistercians of Gethsemani Abbey - ECPv6.15.20//NONSGML v1.0//EN
CALSCALE:GREGORIAN
METHOD:PUBLISH
X-WR-CALNAME:Lay Cistercians of Gethsemani Abbey
X-ORIGINAL-URL:https://laycisterciansofgethsemani.org
X-WR-CALDESC:Events for Lay Cistercians of Gethsemani Abbey
REFRESH-INTERVAL;VALUE=DURATION:PT1H
X-Robots-Tag:noindex
X-PUBLISHED-TTL:PT1H
BEGIN:VTIMEZONE
TZID:America/New_York
BEGIN:DAYLIGHT
TZOFFSETFROM:-0500
TZOFFSETTO:-0400
TZNAME:EDT
DTSTART:20230312T070000
END:DAYLIGHT
BEGIN:STANDARD
TZOFFSETFROM:-0400
TZOFFSETTO:-0500
TZNAME:EST
DTSTART:20231105T060000
END:STANDARD
BEGIN:DAYLIGHT
TZOFFSETFROM:-0500
TZOFFSETTO:-0400
TZNAME:EDT
DTSTART:20240310T070000
END:DAYLIGHT
BEGIN:STANDARD
TZOFFSETFROM:-0400
TZOFFSETTO:-0500
TZNAME:EST
DTSTART:20241103T060000
END:STANDARD
BEGIN:DAYLIGHT
TZOFFSETFROM:-0500
TZOFFSETTO:-0400
TZNAME:EDT
DTSTART:20250309T070000
END:DAYLIGHT
BEGIN:STANDARD
TZOFFSETFROM:-0400
TZOFFSETTO:-0500
TZNAME:EST
DTSTART:20251102T060000
END:STANDARD
END:VTIMEZONE
BEGIN:VTIMEZONE
TZID:America/Chicago
BEGIN:DAYLIGHT
TZOFFSETFROM:-0600
TZOFFSETTO:-0500
TZNAME:CDT
DTSTART:20230312T080000
END:DAYLIGHT
BEGIN:STANDARD
TZOFFSETFROM:-0500
TZOFFSETTO:-0600
TZNAME:CST
DTSTART:20231105T070000
END:STANDARD
BEGIN:DAYLIGHT
TZOFFSETFROM:-0600
TZOFFSETTO:-0500
TZNAME:CDT
DTSTART:20240310T080000
END:DAYLIGHT
BEGIN:STANDARD
TZOFFSETFROM:-0500
TZOFFSETTO:-0600
TZNAME:CST
DTSTART:20241103T070000
END:STANDARD
BEGIN:DAYLIGHT
TZOFFSETFROM:-0600
TZOFFSETTO:-0500
TZNAME:CDT
DTSTART:20250309T080000
END:DAYLIGHT
BEGIN:STANDARD
TZOFFSETFROM:-0500
TZOFFSETTO:-0600
TZNAME:CST
DTSTART:20251102T070000
END:STANDARD
END:VTIMEZONE
BEGIN:VEVENT
DTSTART;VALUE=DATE:20240210
DTEND;VALUE=DATE:20240211
DTSTAMP:20260419T185928
CREATED:20240203T124602Z
LAST-MODIFIED:20240203T124602Z
UID:11562-1707523200-1707609599@laycisterciansofgethsemani.org
SUMMARY:Vigils Reading - St Scholastica
DESCRIPTION:THE LIFE OF ST SCHOLASTICA \nFrom Butler’s Lives of the Saints7 \n◊◊◊ \nSt Scholastica\, who was St Benedict’s sister\, traditionally his twin\, \nconsecrated herself to God from her earliest years\, as we learn from St Gregory. \nIt is not known where she lived\, whether at home or in a community\, but after \nher brother had moved to Monte Cassino\, she settled at Plombariola in that \nsame neighborhood\, probably founding and ruling a nunnery about five miles \nto the south of St Benedict’s monastery. St. Gregory tells us that St. Benedict \ngoverned the nuns as well as the monks\, and it seems clear that St Scholastica \nmust have been their Abbess\, under his direction. She used to visit her brother \nonce a year and\, since she was not allowed to enter his monastery\, he used to go \nwith some monks to meet her at a house a little way off. They spent these visits \nin praising God and in conferring together on spiritual matters. \nSt. Gregory gives a remarkable description of the last of these visits. After \nthey had passed the day as usual they sat down in the evening to have supper. \nWhen it was finished\, Scholastica\, possibly foreseeing that it would be their last \nvisit in this world\, begged her brother to delay his return till the next day that \nthey might spend the time discoursing of the joys of Heaven. Benedict\, who was \nunwilling to transgress his rule\, told her that he could not pass a night away \nfrom the monastery. When Scholastica found that she could not move him\, she \nlaid her head upon her hands which were clasped together on the table and \nbesought God to interpose on her behalf. Her prayer was scarcely ended when \nthere arose such a violent storm of rain that St. Benedict and his companions \nwere unable to set foot outside the door. He exclaimed\, “God forgive you sister; \nwhat have you done?” Whereupon she answered\, “I asked a favor of you and \nyou refused it. I asked it of God\, and He has granted it.” Benedict was therefore \nforced to comply with her request\, and they spent the night talking about holy \nthings. The next morning they parted\, and three days later St. Benedict saw the \nsoul of his sister rising to heaven like a dove. \n  \n7 Butler’s Lives of the Saints \, pg 42\, edited by Michael Walsh – revised version \, Harper Collins\, San Francisco\, \n1991.15 \n  \n 
URL:https://laycisterciansofgethsemani.org/event/vigils-reading-st-scholastica-2/
CATEGORIES:Vigils Readings
END:VEVENT
BEGIN:VEVENT
DTSTART;TZID=America/Chicago:20240210T090000
DTEND;TZID=America/Chicago:20240210T120000
DTSTAMP:20260419T185928
CREATED:20240113T204846Z
LAST-MODIFIED:20240113T204846Z
UID:11495-1707555600-1707566400@laycisterciansofgethsemani.org
SUMMARY:LCG Chicago
DESCRIPTION:Welcome to our monthly meeting: by Zoom\, at 9:00 am CT on the second Saturday of each month. \nWe will read the intro and chapters 1-3 of Erik Varden’s book The Shattering of Loneliness. \nJoin Zoom Meeting \nhttps://us02web.zoom.us/j/86028356465 \nMeeting ID: 860 2835 6465 \n 
URL:https://laycisterciansofgethsemani.org/event/lcg-chicago-2/
CATEGORIES:LCG Local Community Meetings,LCG open events
END:VEVENT
END:VCALENDAR