BEGIN:VCALENDAR
VERSION:2.0
PRODID:-//Lay Cistercians of Gethsemani Abbey - ECPv6.15.20//NONSGML v1.0//EN
CALSCALE:GREGORIAN
METHOD:PUBLISH
X-ORIGINAL-URL:https://laycisterciansofgethsemani.org
X-WR-CALDESC:Events for Lay Cistercians of Gethsemani Abbey
REFRESH-INTERVAL;VALUE=DURATION:PT1H
X-Robots-Tag:noindex
X-PUBLISHED-TTL:PT1H
BEGIN:VTIMEZONE
TZID:America/New_York
BEGIN:DAYLIGHT
TZOFFSETFROM:-0500
TZOFFSETTO:-0400
TZNAME:EDT
DTSTART:20230312T070000
END:DAYLIGHT
BEGIN:STANDARD
TZOFFSETFROM:-0400
TZOFFSETTO:-0500
TZNAME:EST
DTSTART:20231105T060000
END:STANDARD
BEGIN:DAYLIGHT
TZOFFSETFROM:-0500
TZOFFSETTO:-0400
TZNAME:EDT
DTSTART:20240310T070000
END:DAYLIGHT
BEGIN:STANDARD
TZOFFSETFROM:-0400
TZOFFSETTO:-0500
TZNAME:EST
DTSTART:20241103T060000
END:STANDARD
BEGIN:DAYLIGHT
TZOFFSETFROM:-0500
TZOFFSETTO:-0400
TZNAME:EDT
DTSTART:20250309T070000
END:DAYLIGHT
BEGIN:STANDARD
TZOFFSETFROM:-0400
TZOFFSETTO:-0500
TZNAME:EST
DTSTART:20251102T060000
END:STANDARD
END:VTIMEZONE
BEGIN:VEVENT
DTSTART;VALUE=DATE:20240211
DTEND;VALUE=DATE:20240212
DTSTAMP:20260419T190234
CREATED:20240210T224456Z
LAST-MODIFIED:20240210T224456Z
UID:11569-1707609600-1707695999@laycisterciansofgethsemani.org
SUMMARY:Skema: 6th Week in Ordinary Time
DESCRIPTION:Biblical Readings for Office and Mass\n6th Week in Ordinary Time\n\n\nMass Readings: Sunday (B)\, Weekdays (II)\nFebruary 11 – 17\, 2024\n\n\n\nSun\n11\nMon\n12\nTue\n13\nWed\n14\nThu\n15\nFri\n16\nSat\n17\n\n\nOffice\n6th Sunday\nBl Humbeline\nOffice for the Dead\nAsh Wednesday\nThursday after Ash Wednesday\nFriday after Ash Wednesday\nSaturday after Ash Wednesday\n\n\nVigils\nJosh 10:1-15\nJosh 10:16-27\nJosh 10:28-43\nIsa 58:1-14\nDeut 1:1-25\nDeut 1:26-46\nDeut 2:24-3:7\n\n\nLauds\nWis 4:20-5:5\nWis 5:6-13\nWis 5:15-23\nSir 17:22-32\nExod 1:6-14\nExod 1:15-22\nExod 2:1-10\n\n\nMass\n77\n335\n336\n219\n220\n221\n222\n\n\n1st\nLev 13:1-2\, 44-46\nJas 1:1-11\nJas 1:12-18\nJoel 2:12-18\nDeut 30:15-20\nIsa 58:1-9a\nIsa 58:9b-14\n\n\n2nd\n1 Cor 10:31-11:1\n\n\n2 Cor 5:20-6:2\n\n\n\n\n\nGospel\nMark 1:40-45\nMark 8:11-13\nMark 8:14-21\nMatt 6:1-6\, 16-18\nLuke 9:22-25\nMatt 9:14-15\nLuke 5:27-32\n\n\nVespers\nGal 3:1-9\nGal 3:10-14\nGal 3:15-22\nRom 5:1-11\nHeb 1:1-9\nHeb 1:13-2:4\nHeb 2:5-9
URL:https://laycisterciansofgethsemani.org/event/skema-6th-week-in-ordinary-time/
CATEGORIES:Vigils Readings
END:VEVENT
BEGIN:VEVENT
DTSTART;VALUE=DATE:20240211
DTEND;VALUE=DATE:20240212
DTSTAMP:20260419T190234
CREATED:20240210T224946Z
LAST-MODIFIED:20240210T224946Z
UID:11571-1707609600-1707695999@laycisterciansofgethsemani.org
SUMMARY:6th Sunday in Ordinary Time
DESCRIPTION:PURIFIED BY FAITH\nFrom a commentary by Paschasius Radbertus 1\n◊◊◊\nHowever great our sinfulness\, each one of us can be healed by God\nevery day. We have only to worship him with humility and love\, and wherever\nwe are\, to say with faith: Lord\, if you want to you can make me clean. It is by\nbelieving from the heart that we are justified\, so we must make our petitions\nwith utmost confidence\, and without the slightest doubt of God’s power. If\nwe pray with a faith springing from love\, God’s will need be in no doubt. He\nwill be ready and able to save us by an all-powerful command. He\nimmediately answered the leper’s request\, saying: I do want to. Indeed\, no\nsooner had the leper begun to pray with faith than the Savior’s hand began\nto cure him of his leprosy. \nThis leper is an excellent teacher of the right way to make petitions. He\ndid not doubt the Lord’s willingness through disbelief in his compassion\, but\nneither did he take it for granted\, for he knew the depths of his own\nsinfulness. Yet because he acknowledged that the Lord was able to cleanse\nhim if he wished\, we praise this declaration of firm faith just as we praise the\nLord’s mighty power. For obtaining a favor from God rightly depends as\nmuch on having a real living faith as on the exercise of the Creator’s power\nand mercy. If faith is weak\, it must be strengthened\, for only then will it\nsucceed in obtaining health of body or soul. The Apostle’s words\, purifying\ntheir hearts by faith referred\, surely\, to strong faith like this. And so if the\nhearts of believers are purified by faith\, we must give thought to this virtue\nof faith\, for\, as the Apostle says\, Anyone who doubts is like a wave in the sea. \nA faith shown to be living by its love\, steadfast by its perseverance\,\npatient by its endurance of delay\, humble by confession. Strong by its\nconfidence\, reverent by its way of presenting petitions\, and discerning with\nregard to their content – such a faith may be certain that in every place it will\nhear the Lord sating: I do want to. \nPondering this wonderful reply put the words together in their proper\nsequence. The leper began: Lord\, if you want to\, and the Savior said: I do\nwant to. The leper continued: You can make me clean\, and the Lord spoke\nhis powerful word of command: Be clean. All that the sinner’s true confession\nmaintained with faith\, love and power immediately conferred. And in case\nthe gravity of his sins should make anyone despair\, another Evangelist says\nthis man who was cured had been completely covered with leprosy. For all\nhave sinned and forfeited the glory of God. Since\, as we rightly believe\, God’s\npower is operative everywhere\, we ought to believe the same of his will\, for\nhis will is that all should be saved and come to the knowledge of the truth. \n1 \nJourney with the Fathers – Year B – New City Press – 1999 – pg 80-81.
URL:https://laycisterciansofgethsemani.org/event/6th-sunday-in-ordinary-time/
CATEGORIES:Vigils Readings
END:VEVENT
END:VCALENDAR