BEGIN:VCALENDAR
VERSION:2.0
PRODID:-//Lay Cistercians of Gethsemani Abbey - ECPv6.15.20//NONSGML v1.0//EN
CALSCALE:GREGORIAN
METHOD:PUBLISH
X-ORIGINAL-URL:https://laycisterciansofgethsemani.org
X-WR-CALDESC:Events for Lay Cistercians of Gethsemani Abbey
REFRESH-INTERVAL;VALUE=DURATION:PT1H
X-Robots-Tag:noindex
X-PUBLISHED-TTL:PT1H
BEGIN:VTIMEZONE
TZID:America/New_York
BEGIN:DAYLIGHT
TZOFFSETFROM:-0500
TZOFFSETTO:-0400
TZNAME:EDT
DTSTART:20230312T070000
END:DAYLIGHT
BEGIN:STANDARD
TZOFFSETFROM:-0400
TZOFFSETTO:-0500
TZNAME:EST
DTSTART:20231105T060000
END:STANDARD
BEGIN:DAYLIGHT
TZOFFSETFROM:-0500
TZOFFSETTO:-0400
TZNAME:EDT
DTSTART:20240310T070000
END:DAYLIGHT
BEGIN:STANDARD
TZOFFSETFROM:-0400
TZOFFSETTO:-0500
TZNAME:EST
DTSTART:20241103T060000
END:STANDARD
BEGIN:DAYLIGHT
TZOFFSETFROM:-0500
TZOFFSETTO:-0400
TZNAME:EDT
DTSTART:20250309T070000
END:DAYLIGHT
BEGIN:STANDARD
TZOFFSETFROM:-0400
TZOFFSETTO:-0500
TZNAME:EST
DTSTART:20251102T060000
END:STANDARD
END:VTIMEZONE
BEGIN:VEVENT
DTSTART;VALUE=DATE:20240218
DTEND;VALUE=DATE:20240219
DTSTAMP:20260419T190234
CREATED:20240217T143418Z
LAST-MODIFIED:20240217T143418Z
UID:11590-1708214400-1708300799@laycisterciansofgethsemani.org
SUMMARY:Skema\, 1st Week of Lent
DESCRIPTION:  \n\n\n\nBiblical Readings for Office and Mass\n1st Week of Lent\n\n\nMass Readings: Sunday (B)\, Weekdays (II)\nFebruary 18 – 24\, 2024\n\n\n\nSun\n18\nMon\n19\nTue\n20\nWed\n21\nThu\n22\nFri\n23\nSat\n24\n\n\nOffice\n1st Sunday of Lent\nLenten Weekday\nLenten Weekday\nLenten Weekday\nChair of St Peter\nLenten Weekday\nLenten Weekday\n\n\nVigils\nDeut 3:18-4:8\nDeut 4:9-24\nDeut 4:25-40\nDeut 4:44-5:21\nActs 11:1-18\nDeut 6:4-25\nDeut 7:1-11\n\n\nLauds\nExod 2:23-3:6\nExod 3:7-10\nExod 3:11-15\nExod 3:16-22\nNum 27:15-23\nExod 5:1-5\nExod 6:2-9\n\n\nMass\n23\n224\n225\n226\n535\n228\n229\n\n\n1st\nGen 9:8-15\nLev 19:1-2\, 11-18\nIsa 55:10-11\nJonah 3:1-10\n1 Pet 5:1-4\nEzek 18:21-28\nDeut 26:16-19\n\n\n2nd\n1 Pet 3:18-22\n\n\n\n\n\n\n\n\nGospel\nMark 1:12-15\nMatt 25:31-46\nMatt 6:7-15\nLuke 11:29-32\nMatt 16:13-19\nMatt 5:20-26\nMatt 5:43-48\n\n\nVespers\nHeb 2:10-18\nHeb 3:1-6\nHeb 3:7-13\nHeb 3:14-19\nActs 4:8-13\nHeb 4:12-16\nHeb 5:1-10\n\n\n\n\n\n\n\n\n\n\n\n\n\n\n\n\n\n\n\n\n 
URL:https://laycisterciansofgethsemani.org/event/skema-1st-week-of-lent/
CATEGORIES:Vigils Readings
END:VEVENT
BEGIN:VEVENT
DTSTART;VALUE=DATE:20240218
DTEND;VALUE=DATE:20240219
DTSTAMP:20260419T190234
CREATED:20240217T143839Z
LAST-MODIFIED:20240217T143839Z
UID:11592-1708214400-1708300799@laycisterciansofgethsemani.org
SUMMARY:1 st Sunday of Lent
DESCRIPTION:PREPARE YOUR SOUL FOR AN ORDEAL \nFrom a commentary by John Justus Landsberg 1\n◊◊◊\nEverything the Lord Jesus decided to do\, everything he chose to endure\,\nwas ordained by him for our instruction\, our correction\, and our advantage\, and\nsince he knew that the teaching and consolation we should derive from it all was\nfar from negligible\, he was loath to let slip any opportunity that might profit us.\nAnd so when he was led out into the wilderness there is no doubt that his guide\nwas the Holy Spirit whose intention was to take him to a place where he would\nbe exposed to temptation\, a place where the devil would have the audacity to\naccost him and put him to the test. The circumstances were so greatly in the\ndevil’s favor that he was prompted to capitalize on them; here was Jesus alone\nat prayer\, physically worn out by fasting and abstinence. A chance indeed to\nfind out whether this man really was the Christ\, whether or not he was the Son\nof God. \nFrom this episode therefore our first lesson is that human life on earth\nis a life of warfare\, and the first thing Christians must expect is to be tempted\nby the devil. As Scripture tells us\, we have to be prepared for temptation\, for it\nis written: When you enter God’s service\, prepare your soul for an ordeal. For\nthis reason\, the Lord desires that newly baptized and recent converts too find\ncomfort in his own example. Reading in the gospel that Christ too was tempted\nby the devil immediately after he was baptized\, they will not grow fainthearted\nand fearful if they experience keener temptations from the devil after their\nconversion or baptism than before – even if persecution should be their lot. \nThe second lesson Christ desires to impress upon us by his own example\nis that we should not lightly expose ourselves to temptation\, for we read that it\nwas the Holy Spirit who led Jesus into the wilderness. Mindful of our frailty\nrather\, we must be on the watch\, praying not to be put to the test\, and keeping\nourselves clear of every occasion of temptation. \n1\nJourney with the Fathers – Year B – New City Press – 1999 – pg 82-83.
URL:https://laycisterciansofgethsemani.org/event/1-st-sunday-of-lent/
CATEGORIES:Vigils Readings
END:VEVENT
END:VCALENDAR