BEGIN:VCALENDAR
VERSION:2.0
PRODID:-//Lay Cistercians of Gethsemani Abbey - ECPv6.15.20//NONSGML v1.0//EN
CALSCALE:GREGORIAN
METHOD:PUBLISH
X-ORIGINAL-URL:https://laycisterciansofgethsemani.org
X-WR-CALDESC:Events for Lay Cistercians of Gethsemani Abbey
REFRESH-INTERVAL;VALUE=DURATION:PT1H
X-Robots-Tag:noindex
X-PUBLISHED-TTL:PT1H
BEGIN:VTIMEZONE
TZID:America/New_York
BEGIN:DAYLIGHT
TZOFFSETFROM:-0500
TZOFFSETTO:-0400
TZNAME:EDT
DTSTART:20230312T070000
END:DAYLIGHT
BEGIN:STANDARD
TZOFFSETFROM:-0400
TZOFFSETTO:-0500
TZNAME:EST
DTSTART:20231105T060000
END:STANDARD
BEGIN:DAYLIGHT
TZOFFSETFROM:-0500
TZOFFSETTO:-0400
TZNAME:EDT
DTSTART:20240310T070000
END:DAYLIGHT
BEGIN:STANDARD
TZOFFSETFROM:-0400
TZOFFSETTO:-0500
TZNAME:EST
DTSTART:20241103T060000
END:STANDARD
BEGIN:DAYLIGHT
TZOFFSETFROM:-0500
TZOFFSETTO:-0400
TZNAME:EDT
DTSTART:20250309T070000
END:DAYLIGHT
BEGIN:STANDARD
TZOFFSETFROM:-0400
TZOFFSETTO:-0500
TZNAME:EST
DTSTART:20251102T060000
END:STANDARD
END:VTIMEZONE
BEGIN:VEVENT
DTSTART;VALUE=DATE:20240314
DTEND;VALUE=DATE:20240315
DTSTAMP:20260420T023226
CREATED:20240310T162412Z
LAST-MODIFIED:20240310T162412Z
UID:11660-1710374400-1710460799@laycisterciansofgethsemani.org
SUMMARY:Vigils Reading
DESCRIPTION:THE ROLE OF THE PROPHET \nFrom the writing of Rabbi Abraham Joshua Heschel5 \n◊◊◊ \nThe certainty of being inspired by God\, of speaking in His name\, of having \nbeen sent by Him to the people\, is the basic and central fact of the prophet’s \nconsciousness. Other people regard experience as the source of certainty; what \nsingles out the prophet in the world of man is that to him the source of his \nexperience is the source of his certainty. To his mind\, the validity and \ndistinction of his message lie in the origin\, not only in the moment of his \nexperience… \nIn a variety of ways\, in utterance and in action\, the prophets stressed their \nstaggering claim. It was such certainty of being inspired that enabled the \nprophet to proclaim again and again: “Thus says the Lord”; “Hear the word of \nthe Lord”… There is no doubt that the prophets were conscious of their own \nsincerity; that their tongues were not confuted by their consciences. “What I \nheard from the Lord of hosts\, … I announce to you\,” said Isaiah. And Jeremiah \ninsisted “That which came out of my lips was before Thy face”. \nThe prophet does not speak of a resolution or a purpose\, framed by \nhimself\, to devote himself to his vocation\, but describes a decisive moment in \nwhich he received a call. He thinks of himself as “a messenger of God”\, sent by \nHim to His people. Moreover\, he does not speak on the strength of a single \nexperience or sporadic inspirations. His entire existence is dedicated to his \nmission… When “Jeremiah’s harsh word of judgment against the Temple of \nJerusalem provoked the priests… that they wanted to kill him\,” Jeremiah had \nnothing to say in his defense before the royal officials except: “…the Lord has \nsent me to you\, to say all these words in your ears”… \nTo the consciousness of the prophet\, the prophetic act is more than an \nexperience; it is an objective event… It is not a discovery\, a coming upon \nsomething permanently given by the mind of the prophet…a timeless idea… \njustice\, a law\, but something dynamic\, an act of giving; not an eternal word\, but \na word spoken\, a word expressed\, springing from a Presence\, a word in time\, a \npathos overflowing in words. His experience is a perception of an act that \nhappens rather than a perception of a situation that abides… \nThus\, to the prophetic consciousness\, inspiration is…experienced as a \ndivine act which takes place not within but beyond\, as an event which happens \nin one’s view rather than in one’s heart. The prophet does not merely feel it; he \nfaces it. \n  \n5 Heschel\, Abraham J. The Prophets. New York: Harper & Row\, 1962. 426-433.11 \n  \n 
URL:https://laycisterciansofgethsemani.org/event/vigils-reading-172/
CATEGORIES:Vigils Readings
END:VEVENT
END:VCALENDAR