BEGIN:VCALENDAR
VERSION:2.0
PRODID:-//Lay Cistercians of Gethsemani Abbey - ECPv6.15.20//NONSGML v1.0//EN
CALSCALE:GREGORIAN
METHOD:PUBLISH
X-WR-CALNAME:Lay Cistercians of Gethsemani Abbey
X-ORIGINAL-URL:https://laycisterciansofgethsemani.org
X-WR-CALDESC:Events for Lay Cistercians of Gethsemani Abbey
REFRESH-INTERVAL;VALUE=DURATION:PT1H
X-Robots-Tag:noindex
X-PUBLISHED-TTL:PT1H
BEGIN:VTIMEZONE
TZID:America/New_York
BEGIN:DAYLIGHT
TZOFFSETFROM:-0500
TZOFFSETTO:-0400
TZNAME:EDT
DTSTART:20230312T070000
END:DAYLIGHT
BEGIN:STANDARD
TZOFFSETFROM:-0400
TZOFFSETTO:-0500
TZNAME:EST
DTSTART:20231105T060000
END:STANDARD
BEGIN:DAYLIGHT
TZOFFSETFROM:-0500
TZOFFSETTO:-0400
TZNAME:EDT
DTSTART:20240310T070000
END:DAYLIGHT
BEGIN:STANDARD
TZOFFSETFROM:-0400
TZOFFSETTO:-0500
TZNAME:EST
DTSTART:20241103T060000
END:STANDARD
BEGIN:DAYLIGHT
TZOFFSETFROM:-0500
TZOFFSETTO:-0400
TZNAME:EDT
DTSTART:20250309T070000
END:DAYLIGHT
BEGIN:STANDARD
TZOFFSETFROM:-0400
TZOFFSETTO:-0500
TZNAME:EST
DTSTART:20251102T060000
END:STANDARD
END:VTIMEZONE
BEGIN:VEVENT
DTSTART;VALUE=DATE:20240324
DTEND;VALUE=DATE:20240325
DTSTAMP:20260420T023934
CREATED:20240323T215511Z
LAST-MODIFIED:20240323T215511Z
UID:11726-1711238400-1711324799@laycisterciansofgethsemani.org
SUMMARY:Skema for Holy Week
DESCRIPTION:Biblical Readings for Office and Mass\nHoly Week\n\n\nMass Readings: Sunday (B)\, Weekdays (II)\nMarch 24 – 30\, 2024\n\n\n\nSun\n24\nMon\n25\nTue\n26\nWed\n27\nThu\n28\nFri\n29\nSat\n30\n\n\nOffice\nPalm Sunday\nMonday of Holy Week\nTuesday of Holy Week\nWednesday of Holy Week\nHoly Thursday\nGood Friday\nHoly Saturday\n\n\nVigils\nZech 9:9-17\nLam 1:1-16\nLam 2:1-10\nLam 2:18-22\nLam 3:19-54\nLam 4:1-6\nLam 5:1-22\n\n\nLauds\nZeph 3:14-20\nLam 1:17-22\nLam 2:11-17\nLam 3:1-18\nLam 3:55-66\nWis 2:10-22\nIsa 63:1-6\n\n\nMass\n38\n257\n258\n259\n39\n40\n\n\n\n1st\nIsa 50:4-7\nIsa 42:1-7\nIsa 49:1-6\nIsa 50:4-9a\nExod 12:1-8\, 11-14\nIsa 52:13-53:12\n\n\n\n2nd\nPhil 2:6-11\n\n\n\n1 Cor 11:23-26\nHeb 4:14-16; 5:7-9\n\n\n\nGospel\nMark 14:1-15:47\nJohn 12:1-11\nJohn 13:21-33\, 36-38\nMatt 26:14-25\nJohn 13:1-15\nJohn 18:1-19:42\n\n\n\nVespers\n1 Tim 6:11-16\nRom 5:6-11\n1 Cor 1:18-25\n1 Pet 2:20-25\n\n\n1 Pet 4:1-8
URL:https://laycisterciansofgethsemani.org/event/skema-for-holy-week/
CATEGORIES:Vigils Readings
END:VEVENT
BEGIN:VEVENT
DTSTART;VALUE=DATE:20240324
DTEND;VALUE=DATE:20240325
DTSTAMP:20260420T023934
CREATED:20240323T215924Z
LAST-MODIFIED:20240323T215924Z
UID:11728-1711238400-1711324799@laycisterciansofgethsemani.org
SUMMARY:Palm Sunday
DESCRIPTION:PROCESSION AND PASSION\nFrom a commentary by Blessed Guerric of Igny 1\n◊◊◊\nWhen Jesus entered Jerusalem like a triumphant conqueror\, many were\nastonished at the majesty of his bearing; but when a short while afterward he\nentered upon his passion\, his appearance was ignoble\, an object of derision. If\ntoday’s procession and passion are considered together\, in the one Jesus\nappears as sublime and glorious\, in the other as lowly and suffering. The\nprocession makes us think of the honor reserved for a king\, whereas the passion\nshows us the punishment due to a thief. \nIn the one Jesus is surrounded by glory and honor\, in the other he has\nneither dignity nor beauty. In the one he is the joy of all and the glory of the\npeople\, in the other the butt of men and the laughing stock of the people. In the\none he receives the acclamation: Hosanna to the Son of David! Blessed is he\nwho comes as the king of Israel; in the other there are shouts that he is guilty\nof death and is reviled for having set himself up as king of Israel. \nIn the procession the people meet Jesus with palm branches\, in his\npassion they slap him in the face and strike his head with a rod. In the one they\nextol him with praises\, in the other they heap insults upon him. In the one they\ncompete to lay their clothes in his path\, in the other he is stripped of his own\nclothes. In the one he is welcomed to Jerusalem as a just king and savior\, in the\nother he is thrown out of the city as a criminal\, condemned as an impostor. In\nthe one he is mounted on an ass and accorded every mark of honor; in the other\nhe hangs on the wood of the cross\, torn by whips\, pierced with wounds\, and\nabandoned by his own. If\, then\, we want to follow our leader without stumbling\nthrough prosperity and through adversity\, let us keep our eyes upon him\,\nhonored in the procession\, undergoing ignominy and suffering in the passion\,\nyet unshakably steadfast in all such changes of fortune. \nLord Jesus\, you are the joy and the salvation of the whole world; whether\nwe see you seated on an ass or hanging on the cross\, let each one of us bless and\npraise you\, so that when we see you reigning on high we may praise you for ever\nand ever\, for to you belong praise and honor throughout all ages. \n1 Journey with the Fathers – Year B – New City Press – NY – 1993 – pg 40.
URL:https://laycisterciansofgethsemani.org/event/palm-sunday/
CATEGORIES:Vigils Readings
END:VEVENT
END:VCALENDAR