BEGIN:VCALENDAR
VERSION:2.0
PRODID:-//Lay Cistercians of Gethsemani Abbey - ECPv6.15.20//NONSGML v1.0//EN
CALSCALE:GREGORIAN
METHOD:PUBLISH
X-WR-CALNAME:Lay Cistercians of Gethsemani Abbey
X-ORIGINAL-URL:https://laycisterciansofgethsemani.org
X-WR-CALDESC:Events for Lay Cistercians of Gethsemani Abbey
REFRESH-INTERVAL;VALUE=DURATION:PT1H
X-Robots-Tag:noindex
X-PUBLISHED-TTL:PT1H
BEGIN:VTIMEZONE
TZID:America/New_York
BEGIN:DAYLIGHT
TZOFFSETFROM:-0500
TZOFFSETTO:-0400
TZNAME:EDT
DTSTART:20240310T070000
END:DAYLIGHT
BEGIN:STANDARD
TZOFFSETFROM:-0400
TZOFFSETTO:-0500
TZNAME:EST
DTSTART:20241103T060000
END:STANDARD
BEGIN:DAYLIGHT
TZOFFSETFROM:-0500
TZOFFSETTO:-0400
TZNAME:EDT
DTSTART:20250309T070000
END:DAYLIGHT
BEGIN:STANDARD
TZOFFSETFROM:-0400
TZOFFSETTO:-0500
TZNAME:EST
DTSTART:20251102T060000
END:STANDARD
BEGIN:DAYLIGHT
TZOFFSETFROM:-0500
TZOFFSETTO:-0400
TZNAME:EDT
DTSTART:20260308T070000
END:DAYLIGHT
BEGIN:STANDARD
TZOFFSETFROM:-0400
TZOFFSETTO:-0500
TZNAME:EST
DTSTART:20261101T060000
END:STANDARD
END:VTIMEZONE
BEGIN:VEVENT
DTSTART;TZID=America/New_York:20251213T090000
DTEND;TZID=America/New_York:20251213T090000
DTSTAMP:20260419T092116
CREATED:20250909T153537Z
LAST-MODIFIED:20251129T234449Z
UID:13921-1765616400-1765616400@laycisterciansofgethsemani.org
SUMMARY:LCG Chicago Monthly Meeting 9:00 am CDT
DESCRIPTION:All LCG folk are welcome: \n  \nJoin Zoom Meeting \nhttps://us02web.zoom.us/j/86028356465 \nMeeting ID: 860 2835 6465 \nOne tap mobile \n+13126266799\,\,86028356465# US (Chicago) \n+13092053325\,\,86028356465# US
URL:https://laycisterciansofgethsemani.org/event/lcg-chicago-monthly-meeting-900-am-cdt-4/
CATEGORIES:LCG Local Community Meetings,LCG open events
END:VEVENT
END:VCALENDAR